Workbook

Sheet OBRAS
B1: IMPORTE
A2: PROC. ABIERTO MULTIPLIC. CRITERIOS | B2: =40943.67 -> 40943.67
A3: PROC. ABIERTO ÚNICO CRITERIO | B3: =42927.31 -> 42927.31
A5: PROC. RESTRINGIDO MULTIPLIC. CRITERIO | B5: 0
A6: PROC. RESTRINGIDO ÚNICO CRITERIO | B6: 0
A8: PROC. NEGOCIADO CON PUBLICIDAD | B8: 0
A9: PROC. NEGOCIADO SIN PUBLICIDAD | B9: 0
A11: DIÁLOGO COMPETITIVO | B11: 0
A13: ADJUDICACIÓN DIRECTA | B13: =26670+12800.35+739.12+4070+26670+24432.03+8640+4070+38541.99 -> 146633.49

Sheet SUMINISTROS
B1: IMPORTE
A2: PROC. ABIERTO MULTIPLIC. CRITERIOS | B2: =5568.62+10916.67+19689.75 -> 36175.04
A3: PROC. ABIERTO ÚNICO CRITERIO | B3: 0
A5: PROC. RESTRINGIDO MULTIPLIC. CRITERIO | B5: 0
A6: PROC. RESTRINGIDO ÚNICO CRITERIO | B6: 0
A8: PROC. NEGOCIADO CON PUBLICIDAD | B8: 0
A9: PROC. NEGOCIADO SIN PUBLICIDAD | B9: 0
A11: DIÁLOGO COMPETITIVO | B11: 0
A13: ADJUDICACIÓN DIRECTA | B13: =13130.17+2145+1200+12342.31+321.41+383.83+576+536.45+6479.33+388+687+1831.32+1270.5+333.8+14493.56+1608+12365+448.35+4600+2665.6+167.75+167.75+255+6450+1087.5+270+590+192+3000+2479.85+1929.76+531.6+577.6+106.84+1612.4+6600+3960+320+1548+1560+954.24+38.08+6095.2+1888.09+450+78.46+8921.84+1352.8+10790.67+1194.83+191.4+1780+2650+7700+334.18+9956+1425+442+317 -> 167771.47

Sheet PATRIMONIALES
B1: IMPORTE
A2: PROC. ABIERTO MULTIPLIC. CRITERIOS | B2: =2487.72+5694+4500+1539.96+25560 -> 39781.68
A3: PROC. ABIERTO ÚNICO CRITERIO | B3: 0
A5: PROC. RESTRINGIDO MULTIPLIC. CRITERIO | B5: 0
A6: PROC. RESTRINGIDO ÚNICO CRITERIO | B6: 0
A8: PROC. NEGOCIADO CON PUBLICIDAD | B8: 0
A9: PROC. NEGOCIADO SIN PUBLICIDAD | B9: 0
A11: DIÁLOGO COMPETITIVO | B11: 0
A13: ADJUDICACIÓN DIRECTA | B13: =2450+14995+8400 -> 25845

Sheet GESTION DE SERVICIOS PUBLICOS
B1: IMPORTE
A2: PROC. ABIERTO MULTIPLIC. CRITERIOS | B2: 0
A3: PROC. ABIERTO ÚNICO CRITERIO | B3: 0
A5: PROC. RESTRINGIDO MULTIPLIC. CRITERIO | B5: 0
A6: PROC. RESTRINGIDO ÚNICO CRITERIO | B6: 0
A8: PROC. NEGOCIADO CON PUBLICIDAD | B8: 0
A9: PROC. NEGOCIADO SIN PUBLICIDAD | B9: 0
A11: DIÁLOGO COMPETITIVO | B11: 0
A13: ADJUDICACIÓN DIRECTA | B13: 0

Sheet SERVICIOS
B1: IMPORTE
A2: PROC. ABIERTO MULTIPLIC. CRITERIOS | B2: =18999+11500+5200+7599+12900+15860+2798.12+7166.34 -> 82022.46 | C2: =22505.85+10211.16+20950+64800+25620.7+19953.9 -> 164041.61
A3: PROC. ABIERTO ÚNICO CRITERIO | B3: 0 | C3: 0
A5: PROC. RESTRINGIDO MULTIPLIC. CRITERIO | B5: 0 | C5: 0
A6: PROC. RESTRINGIDO ÚNICO CRITERIO | B6: 0 | C6: 0
A8: PROC. NEGOCIADO CON PUBLICIDAD | B8: 0 | C8: 0
A9: PROC. NEGOCIADO SIN PUBLICIDAD | B9: 0 | C9: 0
B10: 0
A11: DIÁLOGO COMPETITIVO | B11: 0 | C11: 0
A13: ADJUDICACIÓN DIRECTA | B13: 0 | C13: =13000+967.8+827+1260+3500+1400+3740+14485+1165+8736+10600+363+2141.7+2800+445.28+750+480+1606.27+384.3+465+430.27+454.55+617.8+13000+570+413.22+6000+1611.57+900+5820.32+475+11272.6+1575+2450+450+2280+1755+1115.7+238.5+4040.88+790+14976+71+860+650+750+315+650+1630+1487.5+165.29+3385+4500+1450+3550+7100+380+1325+1650+2400+400+753.63+1000+743.8+350+188.68+3300+188.68+2700+1035+4522+13181.82+1373.34+2600+8479.8+1500+600+600+600+8568.5+14999+2411.35+6470+14000+8100+1865+2065+790+9500+4958.68+11988.06+2300+2500+8550+615+600+5150+2272.73+2050.4+1200+1363.64+2200+250+4724.63+5122+1947+1950+465+7750+660+755.71+1575+350+200+235+1850+880+3600+4300 -> 367920

Sheet CONCESION DE OBRA PUBLICA
B1: IMPORTE
A2: PROC. ABIERTO MULTIPLIC. CRITERIOS | B2: 0
A3: PROC. ABIERTO ÚNICO CRITERIO | B3: 0
A5: PROC. RESTRINGIDO MULTIPLIC. CRITERIO | B5: 0
A6: PROC. RESTRINGIDO ÚNICO CRITERIO | B6: 0
A8: PROC. NEGOCIADO CON PUBLICIDAD | B8: 0
A9: PROC. NEGOCIADO SIN PUBLICIDAD | B9: 0
A11: DIÁLOGO COMPETITIVO | B11: 0
A13: ADJUDICACIÓN DIRECTA | B13: 0

Sheet COLABORACION DEL SECTOR PUBLICO
B1: IMPORTE
A2: PROC. ABIERTO MULTIPLIC. CRITERIOS | B2: 0
A3: PROC. ABIERTO ÚNICO CRITERIO | B3: 0
A5: PROC. RESTRINGIDO MULTIPLIC. CRITERIO | B5: 0
A6: PROC. RESTRINGIDO ÚNICO CRITERIO | B6: 0
A8: PROC. NEGOCIADO CON PUBLICIDAD | B8: 0
A9: PROC. NEGOCIADO SIN PUBLICIDAD | B9: 0
A11: DIÁLOGO COMPETITIVO | B11: 0
A13: ADJUDICACIÓN DIRECTA | B13: 0

Sheet ADMINISTRATIVO ESPECIAL
B1: IMPORTE
A2: PROC. ABIERTO MULTIPLIC. CRITERIOS | B2: 0
A3: PROC. ABIERTO ÚNICO CRITERIO | B3: 0
A5: PROC. RESTRINGIDO MULTIPLIC. CRITERIO | B5: 0
A6: PROC. RESTRINGIDO ÚNICO CRITERIO | B6: 0
A8: PROC. NEGOCIADO CON PUBLICIDAD | B8: 0
A9: PROC. NEGOCIADO SIN PUBLICIDAD | B9: 0
A11: DIÁLOGO COMPETITIVO | B11: 0
A13: ADJUDICACIÓN DIRECTA | B13: 0

Sheet OTROS
B1: IMPORTE
A2: PROC. ABIERTO MULTIPLIC. CRITERIOS | B2: =960 -> 960
A3: PROC. ABIERTO ÚNICO CRITERIO | B3: 0
A5: PROC. RESTRINGIDO MULTIPLIC. CRITERIO | B5: 0
A6: PROC. RESTRINGIDO ÚNICO CRITERIO | B6: 0
A8: PROC. NEGOCIADO CON PUBLICIDAD | B8: 0
A9: PROC. NEGOCIADO SIN PUBLICIDAD | B9: =11700+11700+11700+11700+31700+49090.91+25000+20000+40000+25000+11700 -> 249290.91
A11: DIÁLOGO COMPETITIVO | B11: 0
A13: ADJUDICACIÓN DIRECTA | B13: =2870+4000+1000+1300+450+6000+6500+3500+1000 -> 26620

Sheet CUADRANTE
A1: TIPO DE CONTRATO | B1: PROCEDIMIENTO ABIERTO | E1: PROCEDIMIENTO RESTRINGIDO | H1: PROCEDIMIENTO NEGOCIADO | K1: DIALOGO COMPETITIVO | L1: ADJUDICACION DIRECTA | M1: TOTAL
B2: MULTIPLIC. CRITERIO | C2: ÚNICO CRITERIO | D2: TOTAL | E2: MULTIPLIC. CRITERIO | F2: ÚNICO CRITERIO | G2: TOTAL | H2: CON PUBLICIDAD | I2: SIN PUBLICIDAD | J2: TOTAL
A3: DE OBRAS | B3: =OBRAS!B2 -> 40943.67 | C3: =OBRAS!B3 -> 42927.31 | D3: =SUM(B3:C3) -> 83870.98 | E3: 0 | F3: 0 | G3: =E3+F3 -> 0 | H3: 0 | I3: 0 | J3: =H3+I3 -> 0 | K3: 0 | L3: =OBRAS!B13 -> 146633.49 | M3: =D3+G3+J3+K3+L3 -> 230504.47
A4: DE SUMINISTRO | B4: =SUMINISTROS!B2 -> 36175.04 | C4: 0 | D4: =B4+C4 -> 36175.04 | E4: 0 | F4: 0 | G4: =E4+F4 -> 0 | H4: 0 | I4: 0 | J4: =H4+I4 -> 0 | K4: 0 | L4: =SUMINISTROS!B13 -> 167771.47 | M4: =D4+G4+J4+K4+L4 -> 203946.51
A5: PATRIMONIALES | B5: =PATRIMONIALES!B2 -> 39781.68 | C5: 0 | D5: =B5+C5 -> 39781.68 | E5: 0 | F5: 0 | G5: =E5+F5 -> 0 | H5: 0 | I5: 0 | J5: =H5+I5 -> 0 | K5: 0 | L5: =PATRIMONIALES!B13 -> 25845 | M5: =D5+G5+J5+K5+L5 -> 65626.68
A6: DE GESTION DE SERVICIOS PUBLICOS | B6: 0 | C6: 0 | D6: =B6+C6 -> 0 | E6: 0 | F6: 0 | G6: =E6+F6 -> 0 | H6: 0 | I6: 0 | J6: =H6+I6 -> 0 | K6: 0 | L6: 0 | M6: =D6+G6+J6+K6+L6 -> 0
A7: DE SERVICIOS | B7: =SERVICIOS!C2 -> 164041.61 | C7: =SERVICIOS!B3 -> 0 | D7: =B7+C7 -> 164041.61 | E7: 0 | F7: 0 | G7: =E7+F7 -> 0 | H7: 0 | I7: 0 | J7: =H7+I7 -> 0 | K7: 0 | L7: =SERVICIOS!C13 -> 367920 | M7: =D7+G7+J7+K7+L7 -> 531961.61
A8: DE CONCESION DE OBRA PUBLICA | B8: 0 | C8: 0 | D8: =B8+C8 -> 0 | E8: 0 | F8: 0 | G8: =E8+F8 -> 0 | H8: 0 | I8: 0 | J8: =H8+I8 -> 0 | K8: 0 | L8: 0 | M8: =D8+G8+J8+K8+L8 -> 0
A9: DE COLABORACION ENTRE EL SECTOR PUBLICO Y EL SECTOR PRIVADO | B9: 0 | C9: 0 | D9: =B9+C9 -> 0 | E9: 0 | F9: 0 | G9: =E9+F9 -> 0 | H9: 0 | I9: 0 | J9: =H9+I9 -> 0 | K9: 0 | L9: 0 | M9: =D9+G9+J9+K9+L9 -> 0
A10: DE CARÁCTER ADMINISTRATIVO ESPECIAL | B10: 0 | C10: 0 | D10: =B10+C10 -> 0 | E10: 0 | F10: 0 | G10: =E10+F10 -> 0 | H10: 0 | I10: 0 | J10: =H10+I10 -> 0 | K10: 0 | L10: 0 | M10: =D10+G10+J10+K10+L10 -> 0
A11: OTROS | B11: =OTROS!B2 -> 960 | C11: =OTROS!B3 -> 0 | D11: =B11+C11 -> 960 | E11: 0 | F11: 0 | G11: =E11+F11 -> 0 | H11: 0 | I11: =OTROS!B9 -> 249290.91 | J11: =H11+I11 -> 249290.91 | K11: 0 | L11: =OTROS!B13 -> 26620 | M11: =D11+G11+J11+K11+L11 -> 276870.91
A12: TOTAL | B12: =SUM(B3:B11) -> 281902 | C12: =SUM(C3:C11) -> 42927.31 | D12: =SUM(D3:D11) -> 324829.31 | E12: =SUM(E3:E11) -> 0 | F12: =SUM(F3:F11) -> 0 | G12: =SUM(G3:G11) -> 0 | H12: =SUM(H3:H11) -> 0 | I12: =SUM(I3:I11) -> 249290.91 | ... M12: =SUM(M3:M11) -> 1308910.2
A15: NOTA: Importes sin I.V.A.
